BEGIN:VCALENDAR
VERSION:2.0
PRODID:-//RBCDC - ECPv5.3.1//NONSGML v1.0//EN
CALSCALE:GREGORIAN
METHOD:PUBLISH
X-WR-CALNAME:RBCDC
X-ORIGINAL-URL:https://rivierabeachcdc.org
X-WR-CALDESC:Events for RBCDC
BEGIN:VTIMEZONE
TZID:UTC
BEGIN:STANDARD
TZOFFSETFROM:+0000
TZOFFSETTO:+0000
TZNAME:UTC
DTSTART:20260101T000000
END:STANDARD
END:VTIMEZONE
BEGIN:VEVENT
DTSTART;TZID=UTC:20260213T170000
DTEND;TZID=UTC:20260213T170000
DTSTAMP:20260423T175115
CREATED:20260127T200807Z
LAST-MODIFIED:20260127T200958Z
UID:3710-1771002000-1771002000@rivierabeachcdc.org
SUMMARY:Valentine's Day Celebration
DESCRIPTION:
URL:https://rivierabeachcdc.org/event/valentines-day-celebration/
LOCATION:Riviera Beach Heights Community Garden\, 1010 West 10th Street\, Riviera Beach \, Florida\, 33404
ORGANIZER;CN="Annetta%20Jenkins":MAILTO:ajenkins@rbcra.com
END:VEVENT
END:VCALENDAR