BEGIN:VCALENDAR
VERSION:2.0
PRODID:-//RBCDC - ECPv5.3.1//NONSGML v1.0//EN
CALSCALE:GREGORIAN
METHOD:PUBLISH
X-WR-CALNAME:RBCDC
X-ORIGINAL-URL:https://rivierabeachcdc.org
X-WR-CALDESC:Events for RBCDC
BEGIN:VTIMEZONE
TZID:UTC
BEGIN:STANDARD
TZOFFSETFROM:+0000
TZOFFSETTO:+0000
TZNAME:UTC
DTSTART:20170101T000000
END:STANDARD
END:VTIMEZONE
BEGIN:VEVENT
DTSTART;TZID=UTC:20170629T180000
DTEND;TZID=UTC:20170629T193000
DTSTAMP:20260425T171652
CREATED:20170614T162636Z
LAST-MODIFIED:20170614T162752Z
UID:1225-1498759200-1498764600@rivierabeachcdc.org
SUMMARY:Urban Youth Impact Networking Event
DESCRIPTION:
URL:https://rivierabeachcdc.org/event/urban-youth-impact-networking-event/
LOCATION:Kafe Hub\, 1939 Broadway\, Riviera Beach\, FL\, 33404\, United States
CATEGORIES:RBCRA
ORGANIZER;CN="Annetta%20Jenkins":MAILTO:ajenkins@rbcra.com
END:VEVENT
END:VCALENDAR