BEGIN:VCALENDAR
VERSION:2.0
PRODID:-//RBCDC - ECPv5.3.1//NONSGML v1.0//EN
CALSCALE:GREGORIAN
METHOD:PUBLISH
X-WR-CALNAME:RBCDC
X-ORIGINAL-URL:https://rivierabeachcdc.org
X-WR-CALDESC:Events for RBCDC
BEGIN:VTIMEZONE
TZID:UTC
BEGIN:STANDARD
TZOFFSETFROM:+0000
TZOFFSETTO:+0000
TZNAME:UTC
DTSTART:20180101T000000
END:STANDARD
END:VTIMEZONE
BEGIN:VEVENT
DTSTART;TZID=UTC:20180306T173000
DTEND;TZID=UTC:20180306T193000
DTSTAMP:20260425T154918
CREATED:20180305T192358Z
LAST-MODIFIED:20180305T192358Z
UID:1647-1520357400-1520364600@rivierabeachcdc.org
SUMMARY:Small Business Resource Center Business Readiness Workshop
DESCRIPTION:
URL:https://rivierabeachcdc.org/event/small-business-resource-center-business-readiness-workshop/
LOCATION:Clean & Safe Office\, 1229 E. Blue Heron Blvd\, Riviera Beach\, Florida\, 33404
ORGANIZER;CN="Annetta%20Jenkins":MAILTO:ajenkins@rbcra.com
END:VEVENT
END:VCALENDAR