BEGIN:VCALENDAR
VERSION:2.0
PRODID:-//RBCDC - ECPv5.3.1//NONSGML v1.0//EN
CALSCALE:GREGORIAN
METHOD:PUBLISH
X-WR-CALNAME:RBCDC
X-ORIGINAL-URL:https://rivierabeachcdc.org
X-WR-CALDESC:Events for RBCDC
BEGIN:VTIMEZONE
TZID:UTC
BEGIN:STANDARD
TZOFFSETFROM:+0000
TZOFFSETTO:+0000
TZNAME:UTC
DTSTART:20250101T000000
END:STANDARD
END:VTIMEZONE
BEGIN:VEVENT
DTSTART;TZID=UTC:20251120T163000
DTEND;TZID=UTC:20251120T193000
DTSTAMP:20260423T204158
CREATED:20251103T184138Z
LAST-MODIFIED:20251103T184214Z
UID:3646-1763656200-1763667000@rivierabeachcdc.org
SUMMARY:New Homes Informational Event
DESCRIPTION:
URL:https://rivierabeachcdc.org/event/new-homes-informational-event/
LOCATION:Riviera Beach City Hall\, 600 W. Blue Heron Blvd.\, Riviera Beach\, FL\, 33404
ORGANIZER;CN="Annetta%20Jenkins":MAILTO:ajenkins@rbcra.com
END:VEVENT
END:VCALENDAR