BEGIN:VCALENDAR
VERSION:2.0
PRODID:-//RBCDC - ECPv5.3.1//NONSGML v1.0//EN
CALSCALE:GREGORIAN
METHOD:PUBLISH
X-WR-CALNAME:RBCDC
X-ORIGINAL-URL:https://rivierabeachcdc.org
X-WR-CALDESC:Events for RBCDC
BEGIN:VTIMEZONE
TZID:UTC
BEGIN:STANDARD
TZOFFSETFROM:+0000
TZOFFSETTO:+0000
TZNAME:UTC
DTSTART:20250101T000000
END:STANDARD
END:VTIMEZONE
BEGIN:VEVENT
DTSTART;TZID=UTC:20251213T103000
DTEND;TZID=UTC:20251213T133000
DTSTAMP:20260423T191949
CREATED:20251103T184437Z
LAST-MODIFIED:20251103T184437Z
UID:3650-1765621800-1765632600@rivierabeachcdc.org
SUMMARY:New Homes Informational Event
DESCRIPTION:
URL:https://rivierabeachcdc.org/event/new-homes-informational-event-2/
LOCATION:Villa L’Onz\, 1101 Avenue E\, Riviera Beach\, FL\, 33404\, United States
ORGANIZER;CN="Annetta%20Jenkins":MAILTO:ajenkins@rbcra.com
END:VEVENT
END:VCALENDAR