BEGIN:VCALENDAR
VERSION:2.0
PRODID:-//RBCDC - ECPv5.3.1//NONSGML v1.0//EN
CALSCALE:GREGORIAN
METHOD:PUBLISH
X-WR-CALNAME:RBCDC
X-ORIGINAL-URL:https://rivierabeachcdc.org
X-WR-CALDESC:Events for RBCDC
BEGIN:VTIMEZONE
TZID:UTC
BEGIN:STANDARD
TZOFFSETFROM:+0000
TZOFFSETTO:+0000
TZNAME:UTC
DTSTART:20190101T000000
END:STANDARD
END:VTIMEZONE
BEGIN:VEVENT
DTSTART;TZID=UTC:20190808T143000
DTEND;TZID=UTC:20190808T160000
DTSTAMP:20260424T153941
CREATED:20190807T173429Z
LAST-MODIFIED:20190807T183426Z
UID:2211-1565274600-1565280000@rivierabeachcdc.org
SUMMARY:Neighborhood RECLAIM Project Tour
DESCRIPTION:MEDIA ADVISORY\nFOR IMMEDIATE RELEASE\nMedia Advisory of Neighborhood RECLAIM Project Tour with Florida State and Local Riviera Beach Officials \nMembers of the media are cordially invited to attend the Neighborhood RECLAIM project tour on Thursday\, August 8\, 2019 from 2:30 to 4 p.m. at 950 West 1st Street\, Riviera Beach\, Florida 33404. \nAUGUST 7\, 2019\, RIVIERA BEACH\, FLORIDA — The Riviera Beach Community Development Corporation (CDC)\, Riviera Beach Community Redevelopment Agency (CRA) and others have partnered with the City of Riviera Beach Reentry Center in a new neighborhood revitalization effort called Neighborhood RECLAIM. The partnership’s first project will be the rehabilitation of a home at 950 West 1st Street in Riviera Beach\, FL 33404\, that will be sold to a low-income\, first-time homebuyer. \n \nThe residence tour on Thursday\, August 8\, 2019 at 2:30 p.m. will be attended by officials from the Florida Department of Corrections\, U.S. Department of Justice\, Palm Beach County Department of Public Safety\, the City of Riviera Beach Reentry Program\, Riviera Beach CDC and CRA\, and Urban Farmers. At this convening\, officials will describe the unique program’s purpose\, goals\, and initial action plan.  \nLead by the Riviera Beach CDC\, this community reintegration and affordable housing effort is a pioneering program for the area. \nFor information regarding the Reentry Program\, visit the City website by clicking here. \nStay informed on all developments in the Riviera Beach CRA by following the official Facebook\, Instagram @RBCRA and Twitter @RivieraBeachCRA pages or by visiting www.rbcra.com.
URL:https://rivierabeachcdc.org/event/neighborhood-reclaim-project-tour/
LOCATION:950 West 1st.\, 950 West 1st. Street\, Riviera Beach\, Florida\, 33404
ORGANIZER;CN="Annetta%20Jenkins":MAILTO:ajenkins@rbcra.com
END:VEVENT
END:VCALENDAR