BEGIN:VCALENDAR
VERSION:2.0
PRODID:-//RBCDC - ECPv5.3.1//NONSGML v1.0//EN
CALSCALE:GREGORIAN
METHOD:PUBLISH
X-WR-CALNAME:RBCDC
X-ORIGINAL-URL:https://rivierabeachcdc.org
X-WR-CALDESC:Events for RBCDC
BEGIN:VTIMEZONE
TZID:UTC
BEGIN:STANDARD
TZOFFSETFROM:+0000
TZOFFSETTO:+0000
TZNAME:UTC
DTSTART:20190101T000000
END:STANDARD
END:VTIMEZONE
BEGIN:VEVENT
DTSTART;TZID=UTC:20190629T090000
DTEND;TZID=UTC:20190629T130000
DTSTAMP:20260424T154717
CREATED:20190513T201715Z
LAST-MODIFIED:20190608T194243Z
UID:2015-1561798800-1561813200@rivierabeachcdc.org
SUMMARY:Neighborhood Day
DESCRIPTION:
URL:https://rivierabeachcdc.org/event/neighborhood-day/
LOCATION:Riviera Beach Heights Community Garden\, 1010 West 10th Street\, Riviera Beach \, Florida\, 33404
CATEGORIES:Community Garden
ORGANIZER;CN="Annetta%20Jenkins":MAILTO:ajenkins@rbcra.com
END:VEVENT
END:VCALENDAR