BEGIN:VCALENDAR
VERSION:2.0
PRODID:-//RBCDC - ECPv5.3.1//NONSGML v1.0//EN
CALSCALE:GREGORIAN
METHOD:PUBLISH
X-WR-CALNAME:RBCDC
X-ORIGINAL-URL:https://rivierabeachcdc.org
X-WR-CALDESC:Events for RBCDC
BEGIN:VTIMEZONE
TZID:UTC
BEGIN:STANDARD
TZOFFSETFROM:+0000
TZOFFSETTO:+0000
TZNAME:UTC
DTSTART:20200101T000000
END:STANDARD
END:VTIMEZONE
BEGIN:VEVENT
DTSTART;TZID=UTC:20200615T160000
DTEND;TZID=UTC:20200615T170000
DTSTAMP:20260426T021103
CREATED:20200508T135744Z
LAST-MODIFIED:20200508T135744Z
UID:2487-1592236800-1592240400@rivierabeachcdc.org
SUMMARY:Monday Monday Matters
DESCRIPTION:
URL:https://rivierabeachcdc.org/event/monday-monday-matters-2/
LOCATION:Zoom Webinar
ORGANIZER;CN="Annetta%20Jenkins":MAILTO:ajenkins@rbcra.com
END:VEVENT
END:VCALENDAR