BEGIN:VCALENDAR
VERSION:2.0
PRODID:-//RBCDC - ECPv5.3.1//NONSGML v1.0//EN
CALSCALE:GREGORIAN
METHOD:PUBLISH
X-WR-CALNAME:RBCDC
X-ORIGINAL-URL:https://rivierabeachcdc.org
X-WR-CALDESC:Events for RBCDC
BEGIN:VTIMEZONE
TZID:UTC
BEGIN:STANDARD
TZOFFSETFROM:+0000
TZOFFSETTO:+0000
TZNAME:UTC
DTSTART:20190101T000000
END:STANDARD
END:VTIMEZONE
BEGIN:VEVENT
DTSTART;TZID=UTC:20190112T090000
DTEND;TZID=UTC:20190112T130000
DTSTAMP:20260425T005613
CREATED:20181227T181051Z
LAST-MODIFIED:20181227T181051Z
UID:1884-1547283600-1547298000@rivierabeachcdc.org
SUMMARY:MLK Jr. Day of Service
DESCRIPTION:
URL:https://rivierabeachcdc.org/event/mlk-jr-day-of-service/
LOCATION:1488 37th Street\, 1488 37th Street.\, Riviera Beach\, FL\, 33404
ORGANIZER;CN="Annetta%20Jenkins":MAILTO:ajenkins@rbcra.com
END:VEVENT
END:VCALENDAR