BEGIN:VCALENDAR
VERSION:2.0
PRODID:-//RBCDC - ECPv5.3.1//NONSGML v1.0//EN
CALSCALE:GREGORIAN
METHOD:PUBLISH
X-WR-CALNAME:RBCDC
X-ORIGINAL-URL:https://rivierabeachcdc.org
X-WR-CALDESC:Events for RBCDC
BEGIN:VTIMEZONE
TZID:UTC
BEGIN:STANDARD
TZOFFSETFROM:+0000
TZOFFSETTO:+0000
TZNAME:UTC
DTSTART:20200101T000000
END:STANDARD
END:VTIMEZONE
BEGIN:VEVENT
DTSTART;TZID=UTC:20200122T113000
DTEND;TZID=UTC:20200122T133000
DTSTAMP:20260425T102117
CREATED:20200126T171651Z
LAST-MODIFIED:20200126T171651Z
UID:2362-1579692600-1579699800@rivierabeachcdc.org
SUMMARY:MLK 2020 Day of Service Food Drive
DESCRIPTION:
URL:https://rivierabeachcdc.org/event/mlk-2020-day-of-service-food-drive-3/
LOCATION:Riviera Beach CRA\, 2001 Broadway\, Suite 300\, Riviera Beach\, FL\, 33404
ORGANIZER;CN="Annetta%20Jenkins":MAILTO:ajenkins@rbcra.com
END:VEVENT
END:VCALENDAR