BEGIN:VCALENDAR
VERSION:2.0
PRODID:-//RBCDC - ECPv5.3.1//NONSGML v1.0//EN
CALSCALE:GREGORIAN
METHOD:PUBLISH
X-WR-CALNAME:RBCDC
X-ORIGINAL-URL:https://rivierabeachcdc.org
X-WR-CALDESC:Events for RBCDC
BEGIN:VTIMEZONE
TZID:UTC
BEGIN:STANDARD
TZOFFSETFROM:+0000
TZOFFSETTO:+0000
TZNAME:UTC
DTSTART:20240101T000000
END:STANDARD
END:VTIMEZONE
BEGIN:VEVENT
DTSTART;TZID=UTC:20240921T073000
DTEND;TZID=UTC:20240921T110000
DTSTAMP:20260423T163138
CREATED:20240807T171230Z
LAST-MODIFIED:20240807T171230Z
UID:3505-1726903800-1726916400@rivierabeachcdc.org
SUMMARY:International Coastal Cleanup 2024
DESCRIPTION:
URL:https://rivierabeachcdc.org/event/international-coastal-cleanup-2024/
LOCATION:Singer Island Beach\, 2401 North Ocean Avenue\, Riviera Beach\, Fl\, 33404
ORGANIZER;CN="Annetta%20Jenkins":MAILTO:ajenkins@rbcra.com
END:VEVENT
END:VCALENDAR