BEGIN:VCALENDAR
VERSION:2.0
PRODID:-//RBCDC - ECPv5.3.1//NONSGML v1.0//EN
CALSCALE:GREGORIAN
METHOD:PUBLISH
X-WR-CALNAME:RBCDC
X-ORIGINAL-URL:https://rivierabeachcdc.org
X-WR-CALDESC:Events for RBCDC
BEGIN:VTIMEZONE
TZID:UTC
BEGIN:STANDARD
TZOFFSETFROM:+0000
TZOFFSETTO:+0000
TZNAME:UTC
DTSTART:20190101T000000
END:STANDARD
END:VTIMEZONE
BEGIN:VEVENT
DTSTART;TZID=UTC:20190921T073000
DTEND;TZID=UTC:20190921T133000
DTSTAMP:20260424T171309
CREATED:20190729T182343Z
LAST-MODIFIED:20190905T135241Z
UID:2191-1569051000-1569072600@rivierabeachcdc.org
SUMMARY:International Coastal Cleanup 2019
DESCRIPTION:See our ad in Coastal Angler Magazine.
URL:https://rivierabeachcdc.org/event/international-coastal-cleanup-2019/
LOCATION:Marina Event Center\, 190E. 13th St.\, Riviera Beach\, FL\, 33404\, United States
ATTACH;FMTTYPE=image/jpeg:https://rivierabeachcdc.org/wp-content/uploads/2019/07/rbcdc-coastal-cleanup-2019.jpg
END:VEVENT
END:VCALENDAR