BEGIN:VCALENDAR
VERSION:2.0
PRODID:-//RBCDC - ECPv5.3.1//NONSGML v1.0//EN
CALSCALE:GREGORIAN
METHOD:PUBLISH
X-WR-CALNAME:RBCDC
X-ORIGINAL-URL:https://rivierabeachcdc.org
X-WR-CALDESC:Events for RBCDC
BEGIN:VTIMEZONE
TZID:UTC
BEGIN:STANDARD
TZOFFSETFROM:+0000
TZOFFSETTO:+0000
TZNAME:UTC
DTSTART:20170101T000000
END:STANDARD
END:VTIMEZONE
BEGIN:VEVENT
DTSTART;TZID=UTC:20170602T163000
DTEND;TZID=UTC:20170602T173000
DTSTAMP:20260425T184434
CREATED:20170525T171013Z
LAST-MODIFIED:20170525T171013Z
UID:1174-1496421000-1496424600@rivierabeachcdc.org
SUMMARY:Ice Cream Party
DESCRIPTION:Our kids worked really hard for the Great American Cleanup. We’re throwing an Ice Cream party to show our appreciation. Please join us.
URL:https://rivierabeachcdc.org/event/ice-cream-party/
LOCATION:Max M. Fisher Boys and Girls Club\, 221 W. 12th St.\, Riviera Beach\, FL\, United States
END:VEVENT
END:VCALENDAR