BEGIN:VCALENDAR
VERSION:2.0
PRODID:-//RBCDC - ECPv5.3.1//NONSGML v1.0//EN
CALSCALE:GREGORIAN
METHOD:PUBLISH
X-WR-CALNAME:RBCDC
X-ORIGINAL-URL:https://rivierabeachcdc.org
X-WR-CALDESC:Events for RBCDC
BEGIN:VTIMEZONE
TZID:UTC
BEGIN:STANDARD
TZOFFSETFROM:+0000
TZOFFSETTO:+0000
TZNAME:UTC
DTSTART:20170101T000000
END:STANDARD
END:VTIMEZONE
BEGIN:VEVENT
DTSTART;TZID=UTC:20170223T050000
DTEND;TZID=UTC:20170223T200000
DTSTAMP:20260426T030304
CREATED:20170217T213540Z
LAST-MODIFIED:20170217T213540Z
UID:1125-1487826000-1487880000@rivierabeachcdc.org
SUMMARY:Homeowner Grants and Contractor Opportunites
DESCRIPTION:
URL:https://rivierabeachcdc.org/event/homeowner-grants-contractor-opportunites/
END:VEVENT
END:VCALENDAR