BEGIN:VCALENDAR
VERSION:2.0
PRODID:-//RBCDC - ECPv5.3.1//NONSGML v1.0//EN
CALSCALE:GREGORIAN
METHOD:PUBLISH
X-WR-CALNAME:RBCDC
X-ORIGINAL-URL:https://rivierabeachcdc.org
X-WR-CALDESC:Events for RBCDC
BEGIN:VTIMEZONE
TZID:UTC
BEGIN:STANDARD
TZOFFSETFROM:+0000
TZOFFSETTO:+0000
TZNAME:UTC
DTSTART:20190101T000000
END:STANDARD
END:VTIMEZONE
BEGIN:VEVENT
DTSTART;TZID=UTC:20190213T180000
DTEND;TZID=UTC:20190213T200000
DTSTAMP:20260424T215625
CREATED:20190205T170943Z
LAST-MODIFIED:20190205T171155Z
UID:1903-1550080800-1550088000@rivierabeachcdc.org
SUMMARY:Homebuyer's Club
DESCRIPTION:
URL:https://rivierabeachcdc.org/event/homebuyers-club/
LOCATION:Clean & Safe Office\, 1229 E. Blue Heron Blvd\, Riviera Beach\, Florida\, 33404
ORGANIZER;CN="Annetta%20Jenkins":MAILTO:ajenkins@rbcra.com
END:VEVENT
END:VCALENDAR