BEGIN:VCALENDAR
VERSION:2.0
PRODID:-//RBCDC - ECPv5.3.1//NONSGML v1.0//EN
CALSCALE:GREGORIAN
METHOD:PUBLISH
X-WR-CALNAME:RBCDC
X-ORIGINAL-URL:https://rivierabeachcdc.org
X-WR-CALDESC:Events for RBCDC
BEGIN:VTIMEZONE
TZID:UTC
BEGIN:STANDARD
TZOFFSETFROM:+0000
TZOFFSETTO:+0000
TZNAME:UTC
DTSTART:20250101T000000
END:STANDARD
END:VTIMEZONE
BEGIN:VEVENT
DTSTART;TZID=UTC:20250213T173000
DTEND;TZID=UTC:20250213T193000
DTSTAMP:20260424T085625
CREATED:20241120T193814Z
LAST-MODIFIED:20241120T193814Z
UID:3548-1739467800-1739475000@rivierabeachcdc.org
SUMMARY:Homebuyers Club Workshop Series - Winter 2024
DESCRIPTION:
URL:https://rivierabeachcdc.org/event/homebuyers-club-workshop-series-winter-2024-5/
LOCATION:Zoom Webinar
ORGANIZER;CN="Annetta%20Jenkins":MAILTO:ajenkins@rbcra.com
END:VEVENT
END:VCALENDAR