BEGIN:VCALENDAR
VERSION:2.0
PRODID:-//RBCDC - ECPv5.3.1//NONSGML v1.0//EN
CALSCALE:GREGORIAN
METHOD:PUBLISH
X-WR-CALNAME:RBCDC
X-ORIGINAL-URL:https://rivierabeachcdc.org
X-WR-CALDESC:Events for RBCDC
BEGIN:VTIMEZONE
TZID:UTC
BEGIN:STANDARD
TZOFFSETFROM:+0000
TZOFFSETTO:+0000
TZNAME:UTC
DTSTART:20260101T000000
END:STANDARD
END:VTIMEZONE
BEGIN:VEVENT
DTSTART;TZID=UTC:20260409T173000
DTEND;TZID=UTC:20260409T193000
DTSTAMP:20260423T151456
CREATED:20260227T184851Z
LAST-MODIFIED:20260227T184851Z
UID:3738-1775755800-1775763000@rivierabeachcdc.org
SUMMARY:Homebuyers Club Workshop Series - Spring 2026
DESCRIPTION:
URL:https://rivierabeachcdc.org/event/homebuyers-club-workshop-series-spring-2026/
LOCATION:Virtual Meeting
ORGANIZER;CN="Annetta%20Jenkins":MAILTO:ajenkins@rbcra.com
END:VEVENT
END:VCALENDAR