BEGIN:VCALENDAR
VERSION:2.0
PRODID:-//RBCDC - ECPv5.3.1//NONSGML v1.0//EN
CALSCALE:GREGORIAN
METHOD:PUBLISH
X-WR-CALNAME:RBCDC
X-ORIGINAL-URL:https://rivierabeachcdc.org
X-WR-CALDESC:Events for RBCDC
BEGIN:VTIMEZONE
TZID:UTC
BEGIN:STANDARD
TZOFFSETFROM:+0000
TZOFFSETTO:+0000
TZNAME:UTC
DTSTART:20200101T000000
END:STANDARD
END:VTIMEZONE
BEGIN:VEVENT
DTSTART;TZID=UTC:20200312T180000
DTEND;TZID=UTC:20200312T200000
DTSTAMP:20260425T132210
CREATED:20200130T195051Z
LAST-MODIFIED:20200130T195051Z
UID:2371-1584036000-1584043200@rivierabeachcdc.org
SUMMARY:Homebuyer’s Club Workshop Series
DESCRIPTION:
URL:https://rivierabeachcdc.org/event/homebuyers-club-workshop-series-2/
LOCATION:Clean & Safe Office\, 1229 E. Blue Heron Blvd\, Riviera Beach\, Florida\, 33404
ORGANIZER;CN="Annetta%20Jenkins":MAILTO:ajenkins@rbcra.com
END:VEVENT
END:VCALENDAR