BEGIN:VCALENDAR
VERSION:2.0
PRODID:-//RBCDC - ECPv5.3.1//NONSGML v1.0//EN
CALSCALE:GREGORIAN
METHOD:PUBLISH
X-WR-CALNAME:RBCDC
X-ORIGINAL-URL:https://rivierabeachcdc.org
X-WR-CALDESC:Events for RBCDC
BEGIN:VTIMEZONE
TZID:UTC
BEGIN:STANDARD
TZOFFSETFROM:+0000
TZOFFSETTO:+0000
TZNAME:UTC
DTSTART:20200101T000000
END:STANDARD
END:VTIMEZONE
BEGIN:VEVENT
DTSTART;TZID=UTC:20201203T173000
DTEND;TZID=UTC:20201203T200000
DTSTAMP:20260426T035054
CREATED:20201201T213133Z
LAST-MODIFIED:20201201T213133Z
UID:2596-1607016600-1607025600@rivierabeachcdc.org
SUMMARY:Homebuyer's Club Workshop Kickoff
DESCRIPTION:
URL:https://rivierabeachcdc.org/event/homebuyers-club-workshop-kickoff/
LOCATION:Zoom Webinar
ORGANIZER;CN="Annetta%20Jenkins":MAILTO:ajenkins@rbcra.com
END:VEVENT
END:VCALENDAR