BEGIN:VCALENDAR
VERSION:2.0
PRODID:-//RBCDC - ECPv5.3.1//NONSGML v1.0//EN
CALSCALE:GREGORIAN
METHOD:PUBLISH
X-WR-CALNAME:RBCDC
X-ORIGINAL-URL:https://rivierabeachcdc.org
X-WR-CALDESC:Events for RBCDC
BEGIN:VTIMEZONE
TZID:UTC
BEGIN:STANDARD
TZOFFSETFROM:+0000
TZOFFSETTO:+0000
TZNAME:UTC
DTSTART:20170101T000000
END:STANDARD
END:VTIMEZONE
BEGIN:VEVENT
DTSTART;TZID=UTC:20170422T080000
DTEND;TZID=UTC:20170422T120000
DTSTAMP:20260425T215348
CREATED:20170329T164247Z
LAST-MODIFIED:20170329T164247Z
UID:1150-1492848000-1492862400@rivierabeachcdc.org
SUMMARY:Great American Cleanup on Earth Day 2017
DESCRIPTION:The GREAT AMERICAN CLEANUP\,  a project of Keep America Beautiful\, is coordinated locally by Keep Palm Beach County Beautiful Inc. and the Solid Waste Authority (SWA). \nPlease join us on Saturday April\, 22nd and help Keep Palm Beach County Beautiful!\nTo Volunteer\, please complete the Volunteer Registration Form.
URL:https://rivierabeachcdc.org/event/great-american-cleanup-earth-day-2017/
LOCATION:Riviera Beach Heights Community Garden\, 1010 West 10th Street\, Riviera Beach \, Florida\, 33404
ORGANIZER;CN="Annetta%20Jenkins":MAILTO:ajenkins@rbcra.com
END:VEVENT
END:VCALENDAR