BEGIN:VCALENDAR
VERSION:2.0
PRODID:-//RBCDC - ECPv5.3.1//NONSGML v1.0//EN
CALSCALE:GREGORIAN
METHOD:PUBLISH
X-WR-CALNAME:RBCDC
X-ORIGINAL-URL:https://rivierabeachcdc.org
X-WR-CALDESC:Events for RBCDC
BEGIN:VTIMEZONE
TZID:UTC
BEGIN:STANDARD
TZOFFSETFROM:+0000
TZOFFSETTO:+0000
TZNAME:UTC
DTSTART:20240101T000000
END:STANDARD
END:VTIMEZONE
BEGIN:VEVENT
DTSTART;TZID=UTC:20240420T080000
DTEND;TZID=UTC:20240420T120000
DTSTAMP:20260423T204545
CREATED:20240305T203443Z
LAST-MODIFIED:20240305T203443Z
UID:3367-1713600000-1713614400@rivierabeachcdc.org
SUMMARY:Great American Cleanup 2024
DESCRIPTION:
URL:https://rivierabeachcdc.org/event/great-american-cleanup-2024/
LOCATION:2215 Broadway\, 2215 Broadway\, Riviera Beach\, FL\, 33404\, United States
ORGANIZER;CN="Annetta%20Jenkins":MAILTO:ajenkins@rbcra.com
END:VEVENT
END:VCALENDAR