BEGIN:VCALENDAR
VERSION:2.0
PRODID:-//RBCDC - ECPv5.3.1//NONSGML v1.0//EN
CALSCALE:GREGORIAN
METHOD:PUBLISH
X-WR-CALNAME:RBCDC
X-ORIGINAL-URL:https://rivierabeachcdc.org
X-WR-CALDESC:Events for RBCDC
BEGIN:VTIMEZONE
TZID:UTC
BEGIN:STANDARD
TZOFFSETFROM:+0000
TZOFFSETTO:+0000
TZNAME:UTC
DTSTART:20180101T000000
END:STANDARD
END:VTIMEZONE
BEGIN:VEVENT
DTSTART;TZID=UTC:20180310T070000
DTEND;TZID=UTC:20180310T150000
DTSTAMP:20260425T154736
CREATED:20180305T191933Z
LAST-MODIFIED:20180305T191933Z
UID:1641-1520665200-1520694000@rivierabeachcdc.org
SUMMARY:Fire Safety Preparedness Event
DESCRIPTION:
URL:https://rivierabeachcdc.org/event/fire-safety-preparedness-event/
LOCATION:West Riviera Elementary School\, 1057 W. 6th Street\, Riviera Beach\, Florida\, 33404
ORGANIZER;CN="Annetta%20Jenkins":MAILTO:ajenkins@rbcra.com
END:VEVENT
END:VCALENDAR