BEGIN:VCALENDAR
VERSION:2.0
PRODID:-//RBCDC - ECPv5.3.1//NONSGML v1.0//EN
CALSCALE:GREGORIAN
METHOD:PUBLISH
X-WR-CALNAME:RBCDC
X-ORIGINAL-URL:https://rivierabeachcdc.org
X-WR-CALDESC:Events for RBCDC
BEGIN:VTIMEZONE
TZID:UTC
BEGIN:STANDARD
TZOFFSETFROM:+0000
TZOFFSETTO:+0000
TZNAME:UTC
DTSTART:20190101T000000
END:STANDARD
END:VTIMEZONE
BEGIN:VEVENT
DTSTART;TZID=UTC:20191112T173000
DTEND;TZID=UTC:20191112T190000
DTSTAMP:20260425T020233
CREATED:20191101T105821Z
LAST-MODIFIED:20191101T105858Z
UID:2320-1573579800-1573585200@rivierabeachcdc.org
SUMMARY:Construction Project Readiness Workshop
DESCRIPTION:
URL:https://rivierabeachcdc.org/event/construction-project-readiness-workshop/
LOCATION:Marina Event Center\, 190E. 13th St.\, Riviera Beach\, FL\, 33404\, United States
ORGANIZER;CN="Annetta%20Jenkins":MAILTO:ajenkins@rbcra.com
END:VEVENT
END:VCALENDAR