BEGIN:VCALENDAR
VERSION:2.0
PRODID:-//RBCDC - ECPv5.3.1//NONSGML v1.0//EN
CALSCALE:GREGORIAN
METHOD:PUBLISH
X-WR-CALNAME:RBCDC
X-ORIGINAL-URL:https://rivierabeachcdc.org
X-WR-CALDESC:Events for RBCDC
BEGIN:VTIMEZONE
TZID:UTC
BEGIN:STANDARD
TZOFFSETFROM:+0000
TZOFFSETTO:+0000
TZNAME:UTC
DTSTART:20190101T000000
END:STANDARD
END:VTIMEZONE
BEGIN:VEVENT
DTSTART;TZID=UTC:20190309T100000
DTEND;TZID=UTC:20190309T150000
DTSTAMP:20260424T202744
CREATED:20190205T173213Z
LAST-MODIFIED:20190205T173213Z
UID:1917-1552125600-1552143600@rivierabeachcdc.org
SUMMARY:Community Partners Housing Fair
DESCRIPTION:
URL:https://rivierabeachcdc.org/event/community-partners-housing-fair/
LOCATION:Marina Event Center\, 190E. 13th St.\, Riviera Beach\, FL\, 33404\, United States
ORGANIZER;CN="Annetta%20Jenkins":MAILTO:ajenkins@rbcra.com
END:VEVENT
END:VCALENDAR