BEGIN:VCALENDAR
VERSION:2.0
PRODID:-//RBCDC - ECPv5.3.1//NONSGML v1.0//EN
CALSCALE:GREGORIAN
METHOD:PUBLISH
X-WR-CALNAME:RBCDC
X-ORIGINAL-URL:https://rivierabeachcdc.org
X-WR-CALDESC:Events for RBCDC
BEGIN:VTIMEZONE
TZID:UTC
BEGIN:STANDARD
TZOFFSETFROM:+0000
TZOFFSETTO:+0000
TZNAME:UTC
DTSTART:20190101T000000
END:STANDARD
END:VTIMEZONE
BEGIN:VEVENT
DTSTART;TZID=UTC:20191008T173000
DTEND;TZID=UTC:20191008T193000
DTSTAMP:20260424T195656
CREATED:20191004T104748Z
LAST-MODIFIED:20191004T105108Z
UID:2290-1570555800-1570563000@rivierabeachcdc.org
SUMMARY:Business Readiness Training Fall 2019
DESCRIPTION:Please click here to register.
URL:https://rivierabeachcdc.org/event/business-readiness-training-fall-2019-3/
LOCATION:Clean & Safe Office\, 1229 E. Blue Heron Blvd\, Riviera Beach\, Florida\, 33404
ORGANIZER;CN="Annetta%20Jenkins":MAILTO:ajenkins@rbcra.com
END:VEVENT
END:VCALENDAR