BEGIN:VCALENDAR
VERSION:2.0
PRODID:-//RBCDC - ECPv5.3.1//NONSGML v1.0//EN
CALSCALE:GREGORIAN
METHOD:PUBLISH
X-WR-CALNAME:RBCDC
X-ORIGINAL-URL:https://rivierabeachcdc.org
X-WR-CALDESC:Events for RBCDC
BEGIN:VTIMEZONE
TZID:UTC
BEGIN:STANDARD
TZOFFSETFROM:+0000
TZOFFSETTO:+0000
TZNAME:UTC
DTSTART:20200101T000000
END:STANDARD
END:VTIMEZONE
BEGIN:VEVENT
DTSTART;TZID=UTC:20200602T180000
DTEND;TZID=UTC:20200602T200000
DTSTAMP:20260426T002949
CREATED:20200515T160142Z
LAST-MODIFIED:20200515T160142Z
UID:2493-1591120800-1591128000@rivierabeachcdc.org
SUMMARY:Business Readiness Certification Training
DESCRIPTION:
URL:https://rivierabeachcdc.org/event/business-readiness-certification-training/
LOCATION:Zoom Webinar
ORGANIZER;CN="Annetta%20Jenkins":MAILTO:ajenkins@rbcra.com
END:VEVENT
END:VCALENDAR