BEGIN:VCALENDAR
VERSION:2.0
PRODID:-//RBCDC - ECPv5.3.1//NONSGML v1.0//EN
CALSCALE:GREGORIAN
METHOD:PUBLISH
X-WR-CALNAME:RBCDC
X-ORIGINAL-URL:https://rivierabeachcdc.org
X-WR-CALDESC:Events for RBCDC
BEGIN:VTIMEZONE
TZID:UTC
BEGIN:STANDARD
TZOFFSETFROM:+0000
TZOFFSETTO:+0000
TZNAME:UTC
DTSTART:20250101T000000
END:STANDARD
END:VTIMEZONE
BEGIN:VEVENT
DTSTART;TZID=UTC:20250513T180000
DTEND;TZID=UTC:20250513T200000
DTSTAMP:20260424T081549
CREATED:20250303T194357Z
LAST-MODIFIED:20250303T194357Z
UID:3568-1747159200-1747166400@rivierabeachcdc.org
SUMMARY:Business $ense Bootcamp – Spring 2025
DESCRIPTION:
URL:https://rivierabeachcdc.org/event/business-ense-bootcamp-spring-2025-5/
LOCATION:Zoom Webinar
ORGANIZER;CN="Annetta%20Jenkins":MAILTO:ajenkins@rbcra.com
END:VEVENT
END:VCALENDAR