BEGIN:VCALENDAR
VERSION:2.0
PRODID:-//RBCDC - ECPv5.3.1//NONSGML v1.0//EN
CALSCALE:GREGORIAN
METHOD:PUBLISH
X-WR-CALNAME:RBCDC
X-ORIGINAL-URL:https://rivierabeachcdc.org
X-WR-CALDESC:Events for RBCDC
BEGIN:VTIMEZONE
TZID:UTC
BEGIN:STANDARD
TZOFFSETFROM:+0000
TZOFFSETTO:+0000
TZNAME:UTC
DTSTART:20240101T000000
END:STANDARD
END:VTIMEZONE
BEGIN:VEVENT
DTSTART;TZID=UTC:20240514T180000
DTEND;TZID=UTC:20240514T200000
DTSTAMP:20260424T023547
CREATED:20240404T122247Z
LAST-MODIFIED:20240404T122605Z
UID:3393-1715709600-1715716800@rivierabeachcdc.org
SUMMARY:Business $ense Bootcamp – Spring 2024
DESCRIPTION:
URL:https://rivierabeachcdc.org/event/business-ense-bootcamp-spring-2024/
LOCATION:Zoom Webinar
ORGANIZER;CN="Annetta%20Jenkins":MAILTO:ajenkins@rbcra.com
END:VEVENT
END:VCALENDAR