BEGIN:VCALENDAR
VERSION:2.0
PRODID:-//RBCDC - ECPv5.3.1//NONSGML v1.0//EN
CALSCALE:GREGORIAN
METHOD:PUBLISH
X-WR-CALNAME:RBCDC
X-ORIGINAL-URL:https://rivierabeachcdc.org
X-WR-CALDESC:Events for RBCDC
BEGIN:VTIMEZONE
TZID:UTC
BEGIN:STANDARD
TZOFFSETFROM:+0000
TZOFFSETTO:+0000
TZNAME:UTC
DTSTART:20240101T000000
END:STANDARD
END:VTIMEZONE
BEGIN:VEVENT
DTSTART;TZID=UTC:20240604T180000
DTEND;TZID=UTC:20240604T200000
DTSTAMP:20260423T220648
CREATED:20240404T122840Z
LAST-MODIFIED:20240404T122843Z
UID:3397-1717524000-1717531200@rivierabeachcdc.org
SUMMARY:Business $ense Bootcamp – Spring 2024
DESCRIPTION:
URL:https://rivierabeachcdc.org/event/business-ense-bootcamp-spring-2024-4/
LOCATION:Zoom Webinar
END:VEVENT
END:VCALENDAR